BEGIN:VCALENDAR
VERSION:2.0
PRODID:-// - ECPv6.15.20//NONSGML v1.0//EN
CALSCALE:GREGORIAN
METHOD:PUBLISH
X-ORIGINAL-URL:https://lakab.org
X-WR-CALDESC:Évènements pour 
REFRESH-INTERVAL;VALUE=DURATION:PT1H
X-Robots-Tag:noindex
X-PUBLISHED-TTL:PT1H
BEGIN:VTIMEZONE
TZID:UTC
BEGIN:STANDARD
TZOFFSETFROM:+0000
TZOFFSETTO:+0000
TZNAME:UTC
DTSTART:20130101T000000
END:STANDARD
END:VTIMEZONE
BEGIN:VEVENT
DTSTART;TZID=UTC:20150522T204500
DTEND;TZID=UTC:20150522T204500
DTSTAMP:20260419T213209
CREATED:20150116T171414Z
LAST-MODIFIED:20150116T171414Z
UID:5435-1432327500-1432327500@lakab.org
SUMMARY:Jam session
DESCRIPTION:animée par Cyrille Vannier\nBœuf musical pour amateurs et professionnels. La scène de la MJC est à vous pour jouer des reprises et des standards de jazz\, de blues\, de reggae\, de rock…
URL:https://lakab.org/event/jam-session-2-2/
LOCATION:La KAB’ – MJC La Celle Saint-Cloud\, 2 avenue Bauffremont\, La Celle Saint-Cloud\, 78170\, France
CATEGORIES:Concerts musiques actuelles,Convivialité,Tous en scène,Tous les événements
ORGANIZER;CN="La KAB' - MJC":MAILTO:accueil@lakab.org
END:VEVENT
BEGIN:VEVENT
DTSTART;TZID=UTC:20150214T200000
DTEND;TZID=UTC:20150214T200000
DTSTAMP:20260419T213209
CREATED:20140911T151753Z
LAST-MODIFIED:20140911T151753Z
UID:6504-1423944000-1423944000@lakab.org
SUMMARY:Les plateaux de la KAB' : Scène ouverte
DESCRIPTION:La scène est ouverte aux groupes amateurs yvelinois en collaboration avec le CRY et aux groupes répétant dans les studios de musique de la MJC.\nPour s’inscrire aux scènes ouvertes\, envoyez un mail à l’adresse suivante : plateauxdelakab@outlook.fr ou téléphonez à Zeca ou Benjamin au 01 39 18 45 15 au moins un mois avant la date.
URL:https://lakab.org/event/les-plateaux-de-la-kab-scene-ouverte-7/
LOCATION:La KAB’ – MJC La Celle Saint-Cloud\, 2 avenue Bauffremont\, La Celle Saint-Cloud\, 78170\, France
CATEGORIES:Concerts musiques actuelles,Tous en scène,Tous les événements
ATTACH;FMTTYPE=:
ORGANIZER;CN="La KAB' - MJC":MAILTO:accueil@lakab.org
END:VEVENT
BEGIN:VEVENT
DTSTART;TZID=UTC:20150214T200000
DTEND;TZID=UTC:20150214T200000
DTSTAMP:20260419T213209
CREATED:20140911T151753Z
LAST-MODIFIED:20140911T151753Z
UID:5359-1423944000-1423944000@lakab.org
SUMMARY:Les plateaux de la KAB' : Scène ouverte
DESCRIPTION:La scène est ouverte aux groupes amateurs yvelinois en collaboration avec le CRY et aux groupes répétant dans les studios de musique de la MJC.\nPour s’inscrire aux scènes ouvertes\, envoyez un mail à l’adresse suivante : plateauxdelakab@outlook.fr ou téléphonez à Zeca ou Benjamin au 01 39 18 45 15 au moins un mois avant la date.
URL:https://lakab.org/event/les-plateaux-de-la-kab-scene-ouverte-6/
LOCATION:La KAB’ – MJC La Celle Saint-Cloud\, 2 avenue Bauffremont\, La Celle Saint-Cloud\, 78170\, France
CATEGORIES:Concerts musiques actuelles,Tous en scène,Tous les événements
ATTACH;FMTTYPE=:
ORGANIZER;CN="La KAB' - MJC":MAILTO:accueil@lakab.org
END:VEVENT
BEGIN:VEVENT
DTSTART;TZID=UTC:20150214T200000
DTEND;TZID=UTC:20150214T200000
DTSTAMP:20260419T213209
CREATED:20140911T151753Z
LAST-MODIFIED:20140911T151753Z
UID:5294-1423944000-1423944000@lakab.org
SUMMARY:Les plateaux de la KAB' : Scène ouverte
DESCRIPTION:La scène est ouverte aux groupes amateurs yvelinois en collaboration avec le CRY et aux groupes répétant dans les studios de musique de la MJC.\nPour s’inscrire aux scènes ouvertes\, envoyez un mail à l’adresse suivante : plateauxdelakab@outlook.fr ou téléphonez à Zeca ou Benjamin au 01 39 18 45 15 au moins un mois avant la date.
URL:https://lakab.org/event/les-plateaux-de-la-kab-scene-ouverte-5/
LOCATION:La KAB’ – MJC La Celle Saint-Cloud\, 2 avenue Bauffremont\, La Celle Saint-Cloud\, 78170\, France
CATEGORIES:Concerts musiques actuelles,Tous en scène,Tous les événements
ATTACH;FMTTYPE=:
ORGANIZER;CN="La KAB' - MJC":MAILTO:accueil@lakab.org
END:VEVENT
BEGIN:VEVENT
DTSTART;TZID=UTC:20150214T200000
DTEND;TZID=UTC:20150214T200000
DTSTAMP:20260419T213209
CREATED:20140911T151753Z
LAST-MODIFIED:20140911T151753Z
UID:1640-1423944000-1423944000@lakab.org
SUMMARY:Les plateaux de la KAB' : Scène ouverte
DESCRIPTION:La scène est ouverte aux groupes amateurs yvelinois en collaboration avec le CRY et aux groupes répétant dans les studios de musique de la MJC.\nPour s’inscrire aux scènes ouvertes\, envoyez un mail à l’adresse suivante : plateauxdelakab@outlook.fr ou téléphonez à Zeca ou Benjamin au 01 39 18 45 15 au moins un mois avant la date.
URL:https://lakab.org/event/les-plateaux-de-la-kab-scene-ouverte/
LOCATION:La KAB’ – MJC La Celle Saint-Cloud\, 2 avenue Bauffremont\, La Celle Saint-Cloud\, 78170\, France
CATEGORIES:Concerts musiques actuelles,Tous en scène,Tous les événements
ATTACH;FMTTYPE=:
ORGANIZER;CN="La KAB' - MJC":MAILTO:accueil@lakab.org
END:VEVENT
BEGIN:VEVENT
DTSTART;TZID=UTC:20150214T200000
DTEND;TZID=UTC:20150214T200000
DTSTAMP:20260419T213209
CREATED:20140911T151753Z
LAST-MODIFIED:20140911T151753Z
UID:5380-1423944000-1423944000@lakab.org
SUMMARY:Les plateaux de la KAB' : Scène ouverte
DESCRIPTION:La scène est ouverte aux groupes amateurs yvelinois en collaboration avec le CRY et aux groupes répétant dans les studios de musique de la MJC.\nPour s’inscrire aux scènes ouvertes\, envoyez un mail à l’adresse suivante : plateauxdelakab@outlook.fr ou téléphonez à Zeca ou Benjamin au 01 39 18 45 15 au moins un mois avant la date.
URL:https://lakab.org/event/les-plateaux-de-la-kab-scene-ouverte-2-3/
LOCATION:La KAB’ – MJC La Celle Saint-Cloud\, 2 avenue Bauffremont\, La Celle Saint-Cloud\, 78170\, France
CATEGORIES:Concerts musiques actuelles,Tous en scène,Tous les événements
ATTACH;FMTTYPE=:
ORGANIZER;CN="La KAB' - MJC":MAILTO:accueil@lakab.org
END:VEVENT
BEGIN:VEVENT
DTSTART;TZID=UTC:20150214T200000
DTEND;TZID=UTC:20150214T200000
DTSTAMP:20260419T213209
CREATED:20140911T151753Z
LAST-MODIFIED:20140911T151753Z
UID:5320-1423944000-1423944000@lakab.org
SUMMARY:Les plateaux de la KAB' : Scène ouverte
DESCRIPTION:La scène est ouverte aux groupes amateurs yvelinois en collaboration avec le CRY et aux groupes répétant dans les studios de musique de la MJC.\nPour s’inscrire aux scènes ouvertes\, envoyez un mail à l’adresse suivante : plateauxdelakab@outlook.fr ou téléphonez à Zeca ou Benjamin au 01 39 18 45 15 au moins un mois avant la date.
URL:https://lakab.org/event/les-plateaux-de-la-kab-scene-ouverte-2-2/
LOCATION:La KAB’ – MJC La Celle Saint-Cloud\, 2 avenue Bauffremont\, La Celle Saint-Cloud\, 78170\, France
CATEGORIES:Concerts musiques actuelles,Tous en scène,Tous les événements
ATTACH;FMTTYPE=:
ORGANIZER;CN="La KAB' - MJC":MAILTO:accueil@lakab.org
END:VEVENT
BEGIN:VEVENT
DTSTART;TZID=UTC:20150117T190000
DTEND;TZID=UTC:20150117T190000
DTSTAMP:20260419T213209
CREATED:20141121T173455Z
LAST-MODIFIED:20141121T173455Z
UID:1849-1421521200-1421521200@lakab.org
SUMMARY:Scène ouverte trad
DESCRIPTION:Samedi 17 janvier 2015 a la MPT de Chatou\nBal trad à partir de 19h00\nAvec le Nanterre BBB\, les Zôtres\, Ekinox et l’atelier de la MPT de Chatou\nParticipation : 5 €/3 € (Adhérents MJC/MPT) ou entrée + repas-truffade : 10 €/8 €
URL:https://lakab.org/event/scene-ouverte-trad-2/
CATEGORIES:Concerts musiques actuelles,Convivialité,Rendez-vous thématiques,Tous en scène,Tous les événements
ATTACH;FMTTYPE=:
ORGANIZER;CN="La KAB' - MJC":MAILTO:accueil@lakab.org
END:VEVENT
BEGIN:VEVENT
DTSTART;TZID=UTC:20150117T190000
DTEND;TZID=UTC:20150117T190000
DTSTAMP:20260419T213209
CREATED:20141121T173455Z
LAST-MODIFIED:20141121T173455Z
UID:5453-1421521200-1421521200@lakab.org
SUMMARY:Scène ouverte trad
DESCRIPTION:Samedi 17 janvier 2015 a la MPT de Chatou\nBal trad à partir de 19h00\nAvec le Nanterre BBB\, les Zôtres\, Ekinox et l’atelier de la MPT de Chatou\nParticipation : 5 €/3 € (Adhérents MJC/MPT) ou entrée + repas-truffade : 10 €/8 €
URL:https://lakab.org/event/scene-ouverte-trad-2-2-3/
CATEGORIES:Concerts musiques actuelles,Convivialité,Rendez-vous thématiques,Tous en scène,Tous les événements
ATTACH;FMTTYPE=:
ORGANIZER;CN="La KAB' - MJC":MAILTO:accueil@lakab.org
END:VEVENT
BEGIN:VEVENT
DTSTART;TZID=UTC:20150117T190000
DTEND;TZID=UTC:20150117T190000
DTSTAMP:20260419T213209
CREATED:20141121T173455Z
LAST-MODIFIED:20141121T173455Z
UID:4192-1421521200-1421521200@lakab.org
SUMMARY:Scène ouverte trad
DESCRIPTION:Samedi 17 janvier 2015 a la MPT de Chatou\nBal trad à partir de 19h00\nAvec le Nanterre BBB\, les Zôtres\, Ekinox et l’atelier de la MPT de Chatou\nParticipation : 5 €/3 € (Adhérents MJC/MPT) ou entrée + repas-truffade : 10 €/8 €
URL:https://lakab.org/event/scene-ouverte-trad-2-2-2/
CATEGORIES:Concerts musiques actuelles,Convivialité,Rendez-vous thématiques,Tous en scène,Tous les événements
ATTACH;FMTTYPE=:
ORGANIZER;CN="La KAB' - MJC":MAILTO:accueil@lakab.org
END:VEVENT
BEGIN:VEVENT
DTSTART;TZID=UTC:20150117T190000
DTEND;TZID=UTC:20150117T190000
DTSTAMP:20260419T213209
CREATED:20141121T173455Z
LAST-MODIFIED:20141121T173455Z
UID:6525-1421521200-1421521200@lakab.org
SUMMARY:Scène ouverte trad
DESCRIPTION:Samedi 17 janvier 2015 a la MPT de Chatou\nBal trad à partir de 19h00\nAvec le Nanterre BBB\, les Zôtres\, Ekinox et l’atelier de la MPT de Chatou\nParticipation : 5 €/3 € (Adhérents MJC/MPT) ou entrée + repas-truffade : 10 €/8 €
URL:https://lakab.org/event/scene-ouverte-trad-2-4/
CATEGORIES:Concerts musiques actuelles,Convivialité,Rendez-vous thématiques,Tous en scène,Tous les événements
ATTACH;FMTTYPE=:
ORGANIZER;CN="La KAB' - MJC":MAILTO:accueil@lakab.org
END:VEVENT
BEGIN:VEVENT
DTSTART;TZID=UTC:20150117T190000
DTEND;TZID=UTC:20150117T190000
DTSTAMP:20260419T213209
CREATED:20141121T173455Z
LAST-MODIFIED:20141121T173455Z
UID:5432-1421521200-1421521200@lakab.org
SUMMARY:Scène ouverte trad
DESCRIPTION:Samedi 17 janvier 2015 a la MPT de Chatou\nBal trad à partir de 19h00\nAvec le Nanterre BBB\, les Zôtres\, Ekinox et l’atelier de la MPT de Chatou\nParticipation : 5 €/3 € (Adhérents MJC/MPT) ou entrée + repas-truffade : 10 €/8 €
URL:https://lakab.org/event/scene-ouverte-trad-2-3/
CATEGORIES:Concerts musiques actuelles,Convivialité,Rendez-vous thématiques,Tous en scène,Tous les événements
ATTACH;FMTTYPE=:
ORGANIZER;CN="La KAB' - MJC":MAILTO:accueil@lakab.org
END:VEVENT
BEGIN:VEVENT
DTSTART;TZID=UTC:20150117T190000
DTEND;TZID=UTC:20150117T190000
DTSTAMP:20260419T213209
CREATED:20141121T173455Z
LAST-MODIFIED:20141121T173455Z
UID:5375-1421521200-1421521200@lakab.org
SUMMARY:Scène ouverte trad
DESCRIPTION:Samedi 17 janvier 2015 a la MPT de Chatou\nBal trad à partir de 19h00\nAvec le Nanterre BBB\, les Zôtres\, Ekinox et l’atelier de la MPT de Chatou\nParticipation : 5 €/3 € (Adhérents MJC/MPT) ou entrée + repas-truffade : 10 €/8 €
URL:https://lakab.org/event/scene-ouverte-trad-2-2/
CATEGORIES:Concerts musiques actuelles,Convivialité,Rendez-vous thématiques,Tous en scène,Tous les événements
ATTACH;FMTTYPE=:
ORGANIZER;CN="La KAB' - MJC":MAILTO:accueil@lakab.org
END:VEVENT
BEGIN:VEVENT
DTSTART;TZID=UTC:20141219T204500
DTEND;TZID=UTC:20141219T204500
DTSTAMP:20260419T213209
CREATED:20141016T182457Z
LAST-MODIFIED:20141016T182457Z
UID:6520-1419021900-1419021900@lakab.org
SUMMARY:Cabaret chanson (Annulé)
DESCRIPTION:animé par Nicolas Luciani\n L’atelier chant se met en scène sous les projecteurs de la K’Bane à Boukan. \n 
URL:https://lakab.org/event/cabaret-chanson-6/
LOCATION:La KAB’ – MJC La Celle Saint-Cloud\, 2 avenue Bauffremont\, La Celle Saint-Cloud\, 78170\, France
CATEGORIES:Concerts musiques actuelles,Convivialité,Tous en scène,Tous les événements
ATTACH;FMTTYPE=:
ORGANIZER;CN="La KAB' - MJC":MAILTO:accueil@lakab.org
END:VEVENT
BEGIN:VEVENT
DTSTART;TZID=UTC:20141219T204500
DTEND;TZID=UTC:20141219T204500
DTSTAMP:20260419T213209
CREATED:20141016T182457Z
LAST-MODIFIED:20141016T182457Z
UID:5424-1419021900-1419021900@lakab.org
SUMMARY:Cabaret chanson (Annulé)
DESCRIPTION:animé par Nicolas Luciani\n L’atelier chant se met en scène sous les projecteurs de la K’Bane à Boukan. \n 
URL:https://lakab.org/event/cabaret-chanson-5/
LOCATION:La KAB’ – MJC La Celle Saint-Cloud\, 2 avenue Bauffremont\, La Celle Saint-Cloud\, 78170\, France
CATEGORIES:Concerts musiques actuelles,Convivialité,Tous en scène,Tous les événements
ATTACH;FMTTYPE=:
ORGANIZER;CN="La KAB' - MJC":MAILTO:accueil@lakab.org
END:VEVENT
BEGIN:VEVENT
DTSTART;TZID=UTC:20141219T204500
DTEND;TZID=UTC:20141219T204500
DTSTAMP:20260419T213209
CREATED:20141016T182457Z
LAST-MODIFIED:20141016T182457Z
UID:5361-1419021900-1419021900@lakab.org
SUMMARY:Cabaret chanson (Annulé)
DESCRIPTION:animé par Nicolas Luciani\n L’atelier chant se met en scène sous les projecteurs de la K’Bane à Boukan. \n 
URL:https://lakab.org/event/cabaret-chanson-4/
LOCATION:La KAB’ – MJC La Celle Saint-Cloud\, 2 avenue Bauffremont\, La Celle Saint-Cloud\, 78170\, France
CATEGORIES:Concerts musiques actuelles,Convivialité,Tous en scène,Tous les événements
ATTACH;FMTTYPE=:
ORGANIZER;CN="La KAB' - MJC":MAILTO:accueil@lakab.org
END:VEVENT
BEGIN:VEVENT
DTSTART;TZID=UTC:20141219T204500
DTEND;TZID=UTC:20141219T204500
DTSTAMP:20260419T213209
CREATED:20141016T182457Z
LAST-MODIFIED:20141016T182457Z
UID:1786-1419021900-1419021900@lakab.org
SUMMARY:Cabaret chanson (Annulé)
DESCRIPTION:animé par Nicolas Luciani\n L’atelier chant se met en scène sous les projecteurs de la K’Bane à Boukan. \n 
URL:https://lakab.org/event/cabaret-chanson/
LOCATION:La KAB’ – MJC La Celle Saint-Cloud\, 2 avenue Bauffremont\, La Celle Saint-Cloud\, 78170\, France
CATEGORIES:Concerts musiques actuelles,Convivialité,Tous en scène,Tous les événements
ATTACH;FMTTYPE=:
ORGANIZER;CN="La KAB' - MJC":MAILTO:accueil@lakab.org
END:VEVENT
BEGIN:VEVENT
DTSTART;TZID=UTC:20141219T204500
DTEND;TZID=UTC:20141219T204500
DTSTAMP:20260419T213209
CREATED:20141016T182457Z
LAST-MODIFIED:20141016T182457Z
UID:5443-1419021900-1419021900@lakab.org
SUMMARY:Cabaret chanson (Annulé)
DESCRIPTION:animé par Nicolas Luciani\n L’atelier chant se met en scène sous les projecteurs de la K’Bane à Boukan. \n 
URL:https://lakab.org/event/cabaret-chanson-3-3/
LOCATION:La KAB’ – MJC La Celle Saint-Cloud\, 2 avenue Bauffremont\, La Celle Saint-Cloud\, 78170\, France
CATEGORIES:Concerts musiques actuelles,Convivialité,Tous en scène,Tous les événements
ATTACH;FMTTYPE=:
ORGANIZER;CN="La KAB' - MJC":MAILTO:accueil@lakab.org
END:VEVENT
BEGIN:VEVENT
DTSTART;TZID=UTC:20141219T204500
DTEND;TZID=UTC:20141219T204500
DTSTAMP:20260419T213209
CREATED:20141016T182457Z
LAST-MODIFIED:20141016T182457Z
UID:5387-1419021900-1419021900@lakab.org
SUMMARY:Cabaret chanson (Annulé)
DESCRIPTION:animé par Nicolas Luciani\n L’atelier chant se met en scène sous les projecteurs de la K’Bane à Boukan. \n 
URL:https://lakab.org/event/cabaret-chanson-3-2/
LOCATION:La KAB’ – MJC La Celle Saint-Cloud\, 2 avenue Bauffremont\, La Celle Saint-Cloud\, 78170\, France
CATEGORIES:Concerts musiques actuelles,Convivialité,Tous en scène,Tous les événements
ATTACH;FMTTYPE=:
ORGANIZER;CN="La KAB' - MJC":MAILTO:accueil@lakab.org
END:VEVENT
BEGIN:VEVENT
DTSTART;TZID=UTC:20140412T200000
DTEND;TZID=UTC:20140412T230000
DTSTAMP:20260419T213209
CREATED:20140318T163540Z
LAST-MODIFIED:20140318T163540Z
UID:5212-1397332800-1397343600@lakab.org
SUMMARY:Mjscene ouverte
DESCRIPTION:THE CRUCIFIED PENGUINS\nACOUSTIC SOUL\nDIN DON WOOK\nIONETAN\nOFFSIDE\nMRG\nSANCTUARY
URL:https://lakab.org/event/mjscene-ouverte-2-2/
LOCATION:La KAB’ – MJC La Celle Saint-Cloud\, 2 avenue Bauffremont\, La Celle Saint-Cloud\, 78170\, France
CATEGORIES:Tous en scène
ATTACH;FMTTYPE=:
ORGANIZER;CN="La KAB' - MJC":MAILTO:accueil@lakab.org
END:VEVENT
BEGIN:VEVENT
DTSTART;TZID=UTC:20140412T200000
DTEND;TZID=UTC:20140412T230000
DTSTAMP:20260419T213209
CREATED:20140318T163540Z
LAST-MODIFIED:20140318T163540Z
UID:5282-1397332800-1397343600@lakab.org
SUMMARY:Mjscene ouverte
DESCRIPTION:THE CRUCIFIED PENGUINS\nACOUSTIC SOUL\nDIN DON WOOK\nIONETAN\nOFFSIDE\nMRG\nSANCTUARY
URL:https://lakab.org/event/mjscene-ouverte-2-3/
LOCATION:La KAB’ – MJC La Celle Saint-Cloud\, 2 avenue Bauffremont\, La Celle Saint-Cloud\, 78170\, France
CATEGORIES:Tous en scène
ATTACH;FMTTYPE=:
ORGANIZER;CN="La KAB' - MJC":MAILTO:accueil@lakab.org
END:VEVENT
BEGIN:VEVENT
DTSTART;TZID=UTC:20140412T200000
DTEND;TZID=UTC:20140412T230000
DTSTAMP:20260419T213209
CREATED:20140318T163540Z
LAST-MODIFIED:20140318T163540Z
UID:1421-1397332800-1397343600@lakab.org
SUMMARY:Mjscene ouverte
DESCRIPTION:THE CRUCIFIED PENGUINS\nACOUSTIC SOUL\nDIN DON WOOK\nIONETAN\nOFFSIDE\nMRG\nSANCTUARY
URL:https://lakab.org/event/mjscene-ouverte-2/
LOCATION:La KAB’ – MJC La Celle Saint-Cloud\, 2 avenue Bauffremont\, La Celle Saint-Cloud\, 78170\, France
CATEGORIES:Tous en scène
ATTACH;FMTTYPE=:
ORGANIZER;CN="La KAB' - MJC":MAILTO:accueil@lakab.org
END:VEVENT
BEGIN:VEVENT
DTSTART;TZID=UTC:20140412T200000
DTEND;TZID=UTC:20140412T230000
DTSTAMP:20260419T213209
CREATED:20140318T163540Z
LAST-MODIFIED:20140318T163540Z
UID:5233-1397332800-1397343600@lakab.org
SUMMARY:Mjscene ouverte
DESCRIPTION:THE CRUCIFIED PENGUINS\nACOUSTIC SOUL\nDIN DON WOOK\nIONETAN\nOFFSIDE\nMRG\nSANCTUARY
URL:https://lakab.org/event/mjscene-ouverte-2-2-2/
LOCATION:La KAB’ – MJC La Celle Saint-Cloud\, 2 avenue Bauffremont\, La Celle Saint-Cloud\, 78170\, France
CATEGORIES:Tous en scène
ATTACH;FMTTYPE=:
ORGANIZER;CN="La KAB' - MJC":MAILTO:accueil@lakab.org
END:VEVENT
BEGIN:VEVENT
DTSTART;TZID=UTC:20140412T200000
DTEND;TZID=UTC:20140412T230000
DTSTAMP:20260419T213209
CREATED:20140318T163540Z
LAST-MODIFIED:20140318T163540Z
UID:5305-1397332800-1397343600@lakab.org
SUMMARY:Mjscene ouverte
DESCRIPTION:THE CRUCIFIED PENGUINS\nACOUSTIC SOUL\nDIN DON WOOK\nIONETAN\nOFFSIDE\nMRG\nSANCTUARY
URL:https://lakab.org/event/mjscene-ouverte-2-2-3/
LOCATION:La KAB’ – MJC La Celle Saint-Cloud\, 2 avenue Bauffremont\, La Celle Saint-Cloud\, 78170\, France
CATEGORIES:Tous en scène
ATTACH;FMTTYPE=:
ORGANIZER;CN="La KAB' - MJC":MAILTO:accueil@lakab.org
END:VEVENT
BEGIN:VEVENT
DTSTART;TZID=UTC:20140412T200000
DTEND;TZID=UTC:20140412T230000
DTSTAMP:20260419T213209
CREATED:20140318T163540Z
LAST-MODIFIED:20140318T163540Z
UID:6483-1397332800-1397343600@lakab.org
SUMMARY:Mjscene ouverte
DESCRIPTION:THE CRUCIFIED PENGUINS\nACOUSTIC SOUL\nDIN DON WOOK\nIONETAN\nOFFSIDE\nMRG\nSANCTUARY
URL:https://lakab.org/event/mjscene-ouverte-2-4/
LOCATION:La KAB’ – MJC La Celle Saint-Cloud\, 2 avenue Bauffremont\, La Celle Saint-Cloud\, 78170\, France
CATEGORIES:Tous en scène
ATTACH;FMTTYPE=:
ORGANIZER;CN="La KAB' - MJC":MAILTO:accueil@lakab.org
END:VEVENT
BEGIN:VEVENT
DTSTART;TZID=UTC:20140215T200000
DTEND;TZID=UTC:20140215T200000
DTSTAMP:20260419T213209
CREATED:20131127T171734Z
LAST-MODIFIED:20131127T171734Z
UID:5237-1392494400-1392494400@lakab.org
SUMMARY:Open mic'
DESCRIPTION:Une scène… un micro ouvert… la culture slam\, R’n’B\, hip-hop et reggae\, mais aussi la chanson et les humoristes… La scène de la MJC vous attend pour faire découvrir vos talents ou pour découvrir ceux des autres.
URL:https://lakab.org/event/open-mic-3/
LOCATION:La KAB’ – MJC La Celle Saint-Cloud\, 2 avenue Bauffremont\, La Celle Saint-Cloud\, 78170\, France
CATEGORIES:Concerts musiques actuelles,Tous en scène
ORGANIZER;CN="La KAB' - MJC":MAILTO:accueil@lakab.org
END:VEVENT
BEGIN:VEVENT
DTSTART;TZID=UTC:20140215T200000
DTEND;TZID=UTC:20140215T200000
DTSTAMP:20260419T213209
CREATED:20131127T171734Z
LAST-MODIFIED:20131127T171734Z
UID:5186-1392494400-1392494400@lakab.org
SUMMARY:Open mic'
DESCRIPTION:Une scène… un micro ouvert… la culture slam\, R’n’B\, hip-hop et reggae\, mais aussi la chanson et les humoristes… La scène de la MJC vous attend pour faire découvrir vos talents ou pour découvrir ceux des autres.
URL:https://lakab.org/event/open-mic-2-2/
LOCATION:La KAB’ – MJC La Celle Saint-Cloud\, 2 avenue Bauffremont\, La Celle Saint-Cloud\, 78170\, France
CATEGORIES:Concerts musiques actuelles,Tous en scène
ORGANIZER;CN="La KAB' - MJC":MAILTO:accueil@lakab.org
END:VEVENT
BEGIN:VEVENT
DTSTART;TZID=UTC:20140215T200000
DTEND;TZID=UTC:20140215T200000
DTSTAMP:20260419T213209
CREATED:20131127T171734Z
LAST-MODIFIED:20131127T171734Z
UID:5258-1392494400-1392494400@lakab.org
SUMMARY:Open mic'
DESCRIPTION:Une scène… un micro ouvert… la culture slam\, R’n’B\, hip-hop et reggae\, mais aussi la chanson et les humoristes… La scène de la MJC vous attend pour faire découvrir vos talents ou pour découvrir ceux des autres.
URL:https://lakab.org/event/open-mic-2-3/
LOCATION:La KAB’ – MJC La Celle Saint-Cloud\, 2 avenue Bauffremont\, La Celle Saint-Cloud\, 78170\, France
CATEGORIES:Concerts musiques actuelles,Tous en scène
ORGANIZER;CN="La KAB' - MJC":MAILTO:accueil@lakab.org
END:VEVENT
BEGIN:VEVENT
DTSTART;TZID=UTC:20140215T200000
DTEND;TZID=UTC:20140215T200000
DTSTAMP:20260419T213209
CREATED:20131127T171734Z
LAST-MODIFIED:20131127T171734Z
UID:586-1392494400-1392494400@lakab.org
SUMMARY:Open mic'
DESCRIPTION:Une scène… un micro ouvert… la culture slam\, R’n’B\, hip-hop et reggae\, mais aussi la chanson et les humoristes… La scène de la MJC vous attend pour faire découvrir vos talents ou pour découvrir ceux des autres.
URL:https://lakab.org/event/open-mic/
LOCATION:La KAB’ – MJC La Celle Saint-Cloud\, 2 avenue Bauffremont\, La Celle Saint-Cloud\, 78170\, France
CATEGORIES:Concerts musiques actuelles,Tous en scène
ORGANIZER;CN="La KAB' - MJC":MAILTO:accueil@lakab.org
END:VEVENT
BEGIN:VEVENT
DTSTART;TZID=UTC:20140215T200000
DTEND;TZID=UTC:20140215T200000
DTSTAMP:20260419T213209
CREATED:20131127T171734Z
LAST-MODIFIED:20131127T171734Z
UID:6468-1392494400-1392494400@lakab.org
SUMMARY:Open mic'
DESCRIPTION:Une scène… un micro ouvert… la culture slam\, R’n’B\, hip-hop et reggae\, mais aussi la chanson et les humoristes… La scène de la MJC vous attend pour faire découvrir vos talents ou pour découvrir ceux des autres.
URL:https://lakab.org/event/open-mic-4/
LOCATION:La KAB’ – MJC La Celle Saint-Cloud\, 2 avenue Bauffremont\, La Celle Saint-Cloud\, 78170\, France
CATEGORIES:Concerts musiques actuelles,Tous en scène
ORGANIZER;CN="La KAB' - MJC":MAILTO:accueil@lakab.org
END:VEVENT
END:VCALENDAR